BEGIN:VCALENDAR
VERSION:2.0
PRODID:-//Sabre//Sabre VObject 3.5.3//EN
CALSCALE:GREGORIAN
BEGIN:VTIMEZONE
TZID:Europe/London
BEGIN:STANDARD
TZNAME:GMT
DTSTART:19701025T020000
RRULE:FREQ=YEARLY;BYMONTH=10;BYDAY=-1SU
TZOFFSETFROM:+0100
TZOFFSETTO:+0000
END:STANDARD
BEGIN:DAYLIGHT
TZNAME:BST
DTSTART:19700329T010000
RRULE:FREQ=YEARLY;BYMONTH=3;BYDAY=-1SU
TZOFFSETFROM:+0000
TZOFFSETTO:+0100
END:DAYLIGHT
END:VTIMEZONE
BEGIN:VEVENT
UID:event_199635@brightonorpheus.org
DTSTART;TZID=Europe/London:20250712T140000
DTEND;TZID=Europe/London:20250712T160000
SUMMARY:REHEARSAL 
DESCRIPTION:For full event details\, visit: https://www.brightonorpheus.org
 /dbpage.php?pg=view&dbase=events&id=199635
LOCATION:St John's Church\, Knoyle Road\, Brighton\, BN1 6RB\, 
URL:https://www.brightonorpheus.org/dbpage.php?pg=view&dbase=events&id=1996
 35
END:VEVENT
END:VCALENDAR
